BEGIN:VCALENDAR
VERSION:2.0
PRODID:-//SPD Berkenthin - ECPv5.3.1.1//NONSGML v1.0//EN
CALSCALE:GREGORIAN
METHOD:PUBLISH
X-WR-CALNAME:SPD Berkenthin
X-ORIGINAL-URL:https://spd-berkenthin.de
X-WR-CALDESC:Veranstaltungen für SPD Berkenthin
BEGIN:VTIMEZONE
TZID:Europe/Berlin
BEGIN:DAYLIGHT
TZOFFSETFROM:+0100
TZOFFSETTO:+0200
TZNAME:CEST
DTSTART:20210328T010000
END:DAYLIGHT
BEGIN:STANDARD
TZOFFSETFROM:+0200
TZOFFSETTO:+0100
TZNAME:CET
DTSTART:20211031T010000
END:STANDARD
END:VTIMEZONE
BEGIN:VEVENT
DTSTART;TZID=Europe/Berlin:20210222T180000
DTEND;TZID=Europe/Berlin:20210222T200000
DTSTAMP:20260425T194225
CREATED:20210222T094404Z
LAST-MODIFIED:20210222T094405Z
UID:1162-1614016800-1614024000@spd-berkenthin.de
SUMMARY:Schulverbandssitzung
DESCRIPTION:
URL:https://spd-berkenthin.de/event/schulverbandssitzung
END:VEVENT
END:VCALENDAR