BEGIN:VCALENDAR
VERSION:2.0
PRODID:-//SPD Berkenthin - ECPv5.3.1.1//NONSGML v1.0//EN
CALSCALE:GREGORIAN
METHOD:PUBLISH
X-WR-CALNAME:SPD Berkenthin
X-ORIGINAL-URL:https://spd-berkenthin.de
X-WR-CALDESC:Veranstaltungen für SPD Berkenthin
BEGIN:VTIMEZONE
TZID:Europe/Berlin
BEGIN:DAYLIGHT
TZOFFSETFROM:+0100
TZOFFSETTO:+0200
TZNAME:CEST
DTSTART:20210328T010000
END:DAYLIGHT
BEGIN:STANDARD
TZOFFSETFROM:+0200
TZOFFSETTO:+0100
TZNAME:CET
DTSTART:20211031T010000
END:STANDARD
END:VTIMEZONE
BEGIN:VEVENT
DTSTART;TZID=Europe/Berlin:20210203T190000
DTEND;TZID=Europe/Berlin:20210203T203000
DTSTAMP:20260425T181636
CREATED:20210127T164604Z
LAST-MODIFIED:20210127T164604Z
UID:661-1612378800-1612384200@spd-berkenthin.de
SUMMARY:Fraktionssitzung
DESCRIPTION:Bitte denkt an die Masken und achtet auf genügenden Abstand!
URL:https://spd-berkenthin.de/event/fraktionssitzung
LOCATION:Sportzentrum
END:VEVENT
END:VCALENDAR